BEGIN:VCALENDAR
VERSION:2.0
PRODID:-//eventon.com NONSGML v1.0//EN
CALSCALE:GREGORIAN
METHOD:PUBLISH
BEGIN:VEVENT
UID:69e5f9b8e1087
DTSTAMP:20260420T100232Z
DTSTART:20151010T130000Z
DTEND:20151010T160000Z
LOCATION:Cedarbrooke Chateau 32331 7th Ave\,  Mission\,  BC V2V 6T7
SUMMARY:Fun\,  Fashion & Flappers: The Remount!
DESCRIPTION:Come join us for a historical 1920s fashion show at Chartwell C
 edarbrooke\,  created by the Mission Museum. There will be prizes\,  a Sil
 ent Auction\,  and entertainment. Tickets include admission to the fashion 
 show and entertainment\,  appys and treats\,  and entry into the draw for o
 ur door-prizes.  Plus\,  dress up in your[..]\nhttps://fvad.ca/events/fun-
 fashion-flappers/
URL:https://fvad.ca/events/fun-fashion-flappers/
END:VEVENT
END:VCALENDAR