BEGIN:VCALENDAR
VERSION:2.0
PRODID:-//eventon.com NONSGML v1.0//EN
CALSCALE:GREGORIAN
METHOD:PUBLISH
BEGIN:VEVENT
UID:69e5e2672fabb
DTSTAMP:20260420T082303Z
DTSTART:20170923T121500Z
DTEND:20170923T130000Z
LOCATION:Fraser Valley Academy of Dance 33219 1 Ave\,  Mission\,  BC V2V 1G7
SUMMARY:Nutcracker Auditions 2017 #2
DESCRIPTION:Nutcracker auditions 2017 #2 will be held Saturday\,  Septembe
 r 23\,  for students in the following ballet classes wishing to participat
 e in the Nutcracker: 12:15-12:30 Pre-Primary Ballet &amp; Primary Ballet 12
 :30-12:45 Grades 1 &amp; 2 Ballet 12:45-1:00 Grades 3 to 6 Ballet Vocationa
 l Ballet  &#8211; Students in Intermediate Foundation\,  Intermediate and
  Advanced Ballet please sign[..]\nhttps://fvad.ca/events/nutcracker-auditi
 ons-2017-2/
URL:https://fvad.ca/events/nutcracker-auditions-2017-2/
END:VEVENT
END:VCALENDAR