BEGIN:VCALENDAR
VERSION:2.0
PRODID:-//eventon.com NONSGML v1.0//EN
CALSCALE:GREGORIAN
METHOD:PUBLISH
BEGIN:VEVENT
UID:69e5ddf26eab9
DTSTAMP:20260420T080402Z
DTSTART:20180915T134500Z
DTEND:20180915T164500Z
LOCATION:Fraser Valley Academy of Dance 33219 1 Ave\,  Mission\,  BC V2V 1G7
SUMMARY:Nutcracker Auditions 2018
DESCRIPTION:Nutcracker auditions 2018 will be held Saturday\,  September 1
 5\,  for students in the following ballet classes wishing to participate i
 n the Nutcracker: Pre-Primary Ballet Primary Ballet Ballet 1-4 Ballet 5-7 B
 allet Vocational Ballet  &#8211; Students in Intermediate Foundation\,  I
 ntermediate and Advanced Ballet please sign up on the Vocational Ballet Nu
 tcracker Sign-Up sheet in the[..]\nhttps://fvad.ca/events/nutcracker-auditi
 ons-2018/
URL:https://fvad.ca/events/nutcracker-auditions-2018/
END:VEVENT
END:VCALENDAR