BEGIN:VCALENDAR
VERSION:2.0
PRODID:-//eventon.com NONSGML v1.0//EN
CALSCALE:GREGORIAN
METHOD:PUBLISH
BEGIN:VEVENT
UID:69e8b8704be6a
DTSTAMP:20260422T120048Z
DTSTART:20181012T130000Z
DTEND:20181123T140000Z
LOCATION:Fraser Valley Academy of Dance 33219 1 Ave\,  Mission\,  BC V2V 1G7
SUMMARY:Book your Mini-Nutcracker 2018
DESCRIPTION:Book our 20-minute mini-Nutcracker 2018 performed in your scho
 ol gym.  It&#8217;s free!! Available to book on school days between 1:30pm
  and 2:30pm\,  during October and November. View one of our previous in-sch
 ool performance at Windebank Elementary school: Excerpts: (vimeo.com/192222
 296) Full version: (vimeo.com/192215702) Contact the FVAD office at 604-826
 -0097 or info@fvad.ca to[..]\nhttps://fvad.ca/events/mini-nutcracker-2018/
URL:https://fvad.ca/events/mini-nutcracker-2018/
END:VEVENT
END:VCALENDAR