BEGIN:VCALENDAR
VERSION:2.0
PRODID:-//eventon.com NONSGML v1.0//EN
CALSCALE:GREGORIAN
METHOD:PUBLISH
BEGIN:VEVENT
UID:69e88db7c21e8
DTSTAMP:20260422T085831Z
DTSTART:20200402
DTEND:20200403
LOCATION:Surrey Arts Centre Surrey\,  BC
SUMMARY:Surrey Festival 2020 - Ballet
DESCRIPTION:Surrey Festival 2020 ballet categories will be presented April 
 2-9\,  2020. FVAD Pre-Professional Academy students perform each year at th
 e Surrey Festival of Dance. While the Academy does not participate in local
  competitions in general for numerous reasons\,  the SFD ballet adjudicato
 rs are generally former professional dancers from the classical ballet[..]\
 nhttps://fvad.ca/events/surrey-festival-2020-ballet/
URL:https://fvad.ca/events/surrey-festival-2020-ballet/
END:VEVENT
END:VCALENDAR