BEGIN:VCALENDAR
VERSION:2.0
PRODID:-//eventon.com NONSGML v1.0//EN
CALSCALE:GREGORIAN
METHOD:PUBLISH
BEGIN:VEVENT
UID:69e76a1ae6d17
DTSTAMP:20260421T121418Z
DTSTART:20210907
DTEND:20210908
LOCATION:Fraser Valley Academy of Dance 33219 1 Ave\,  Mission\,  BC V2V 1G7
SUMMARY:Fall 2021 Term Begins
DESCRIPTION:Our Fall 2021 term begins today for our 2021-22 school season. 
 Welcome back everyone! Â We look forward to a hopefully more normal year. ð
 Ÿ™‚ &nbsp;\nhttps://fvad.ca/events/fall-2021-term-begins/
URL:https://fvad.ca/events/fall-2021-term-begins/
END:VEVENT
END:VCALENDAR