BEGIN:VCALENDAR
VERSION:2.0
PRODID:-//eventon.com NONSGML v1.0//EN
CALSCALE:GREGORIAN
METHOD:PUBLISH
BEGIN:VEVENT
UID:69e5e27d85b74
DTSTAMP:20260420T082325Z
DTSTART:20230310T003000Z
DTEND:20230310T013000Z
LOCATION:
SUMMARY:FREE ISTD Modern Theatre Dance #2
DESCRIPTION:Our next class with Miss Karrie is the Free ISTD Modern Theatre
  Dance 7-9 on Thursday\,  March 9 at 4:30-5:30pm. Please confirm with the o
 ffice if you plan to attend if you aren&#8217;t already enrolled in Ballet 
 7-8 at that time. Learn more at Free ISTD Modern Theatre Dance classes 202
 3[..]\nhttps://fvad.ca/events/free-istd-modern-theatre-dance-7-9/
URL:https://fvad.ca/events/free-istd-modern-theatre-dance-7-9/
END:VEVENT
END:VCALENDAR