BEGIN:VCALENDAR
VERSION:2.0
PRODID:-//eventon.com NONSGML v1.0//EN
CALSCALE:GREGORIAN
METHOD:PUBLISH
BEGIN:VEVENT
UID:69e734723d13a
DTSTAMP:20260421T082522Z
DTSTART:20230819T180000Z
DTEND:20230819T181500Z
LOCATION:MissionFest Street Fair Stage 33219 1st Avenue
SUMMARY:MissionFest Street Fair 2023
DESCRIPTION:FVAD students will be performing on stage during the MissionFes
 t Street Fair 2023. We&#8217;re presenting a Michael Jackson Medley on stag
 e at 11am\,  as well as a surprise performance in the area.  The stage wil
 l be located near our school on 1st Avenue\,  and just a few buildings west
  of[..]\nhttps://fvad.ca/events/missionfest-street-fair-2023/
URL:https://fvad.ca/events/missionfest-street-fair-2023/
END:VEVENT
END:VCALENDAR