BEGIN:VCALENDAR
VERSION:2.0
PRODID:-//eventon.com NONSGML v1.0//EN
CALSCALE:GREGORIAN
METHOD:PUBLISH
BEGIN:VEVENT
UID:69e9d90ac8990
DTSTAMP:20260423T083210Z
DTSTART:20260315
DTEND:20260316
LOCATION:Fraser Valley Academy of Dance 33219 1 Ave\,  Mission\,  BC V2V 1G7
SUMMARY:Spring Break 2026 - School Closed
DESCRIPTION:The school is closed for Spring Break 2026. Enjoy a restful two
  weeks! 🙂\nhttps://fvad.ca/events/spring-break-2026-school-closed/
URL:https://fvad.ca/events/spring-break-2026-school-closed/
END:VEVENT
END:VCALENDAR