BEGIN:VCALENDAR
VERSION:2.0
PRODID:-//eventon.com NONSGML v1.0//EN
CALSCALE:GREGORIAN
METHOD:PUBLISH
BEGIN:VEVENT
UID:69e749d93abca
DTSTAMP:20260421T095641Z
DTSTART:20260613T230000Z
DTEND:20260614T193000Z
LOCATION:Fraser Valley Academy of Dance 33219 1 Ave\,  Mission\,  BC V2V 1G7
SUMMARY:School Photo Days 2026
DESCRIPTION:All students may have their photograph taken in costume by Revi
 val Arts Photography at FVAD&#8217;s School Photo Days 2026 on Saturday\,  
 June 13 and Sunday\,  June 14\,  on the weekend before our school show. A w
 onderful opportunity to obtain high quality images by an award-winning phot
 ographer. Photo Day Schedule 2026  (last[..]\nhttps://fvad.ca/events/scho
 ol-photo-days-2026/
URL:https://fvad.ca/events/school-photo-days-2026/
END:VEVENT
END:VCALENDAR