BEGIN:VCALENDAR
VERSION:2.0
PRODID:-//eventon.com NONSGML v1.0//EN
CALSCALE:GREGORIAN
METHOD:PUBLISH
BEGIN:VEVENT
UID:69ea36fc42e74
DTSTAMP:20260423T151300Z
DTSTART:20260215T220000Z
DTEND:20260216T010000Z
LOCATION:Fraser Valley Academy of Dance 33219 1 Ave\,  Mission\,  BC V2V 1G7
SUMMARY:Ballet Jörgen Workshops 2026
DESCRIPTION:Join us on Sunday\,  February 15\,  for two fabulous Ballet Jö
 rgen workshops at FVAD consisting of a ballet class followed by the excitin
 g opportunity to learn repertoire from the company! 2:00-3:30pm &#8211; Jun
 iors (11+) in Ballet 5-8 (RAD equivalent 5-8/Int Fnd) 3:30-5:00pm &#8211; S
 eniors (13+) in Ballet 9-12 (RAD equivalent[..]\nhttps://fvad.ca/events/bal
 let-jorgen-workshops-2026/
URL:https://fvad.ca/events/ballet-jorgen-workshops-2026/
END:VEVENT
END:VCALENDAR