BEGIN:VCALENDAR
VERSION:2.0
PRODID:-//eventon.com NONSGML v1.0//EN
CALSCALE:GREGORIAN
METHOD:PUBLISH
BEGIN:VEVENT
UID:69e8a39583b03
DTSTAMP:20260422T103149Z
DTSTART:20260824
DTEND:20260825
LOCATION:Fraser Valley Academy of Dance 33219 1 Ave\,  Mission\,  BC V2V 1G7
SUMMARY:Tiny Tots Daily + Junior Dance Camp Aug 2026
DESCRIPTION:Our August 24-28 2026 dance programs offer a fun and creative e
 nvironment for younger students to develop dance skills\,  explore movement
  and musicality\,  and enjoy dance-related arts &amp; crafts. Photo by Revi
 val Arts Summertime 2026 Aug 24-28 Tiny Tots Daily Dance &#8211; 1 hour cla
 ss every morning Junior Dance Camp[..]\nhttps://fvad.ca/events/tiny-tots-da
 ily-junior-dance-camp-aug-2026/
URL:https://fvad.ca/events/tiny-tots-daily-junior-dance-camp-aug-2026/
END:VEVENT
END:VCALENDAR