BEGIN:VCALENDAR
VERSION:2.0
PRODID:-//eventon.com NONSGML v1.0//EN
CALSCALE:GREGORIAN
METHOD:PUBLISH
BEGIN:VEVENT
UID:69e5e275a9bdf
DTSTAMP:20260420T082317Z
DTSTART:20260720
DTEND:20260721
LOCATION:Fraser Valley Academy of Dance 33219 1 Ave\,  Mission\,  BC V2V 1G7
SUMMARY:Tiny Tots Daily + Junior Dance Camp Jul 2026
DESCRIPTION:Our July 20-24 2026 dance programs offer a fun and creative env
 ironment for younger students to develop dance skills\,  explore movement a
 nd musicality\,  and enjoy dance-related arts &amp; crafts. Photo by Reviva
 l Arts Summertime 2026 Jul 20-24 Tiny Tots Daily Dance &#8211; 1 hour class
  every morning Junior Dance Camp[..]\nhttps://fvad.ca/events/tiny-tots-dail
 y-junior-dance-camp-jul-2026/
URL:https://fvad.ca/events/tiny-tots-daily-junior-dance-camp-jul-2026/
END:VEVENT
END:VCALENDAR